BEGIN:VCALENDAR
VERSION:2.0
PRODID:-//Doppelpunkt//Events//DE
CALSCALE:GREGORIAN
METHOD:PUBLISH
BEGIN:VEVENT
UID:event-2845@www.doppelpunkt.de
DTSTAMP:20260425T135754
DTSTART:20260111T190000
DTEND:20260111T190000
SUMMARY:Chris Boettcher: "Freudenspender"\, Musik-Comedy
LOCATION:Comödie Fürth\, Comödien-Platz 1\, 90762 Fürth
STATUS:CONFIRMED
END:VEVENT
END:VCALENDAR