BEGIN:VCALENDAR
VERSION:2.0
PRODID:-//Doppelpunkt//Events//DE
CALSCALE:GREGORIAN
METHOD:PUBLISH
BEGIN:VEVENT
UID:event-2842@www.doppelpunkt.de
DTSTAMP:20260421T102401
DTSTART:20260109T150000
DTEND:20260109T150000
SUMMARY:Willi Weitzel: "Und wovon träumst du?"\, Multivisionsshow
LOCATION:Comödie Fürth\, Comödien-Platz 1\, 90762 Fürth
STATUS:CONFIRMED
END:VEVENT
END:VCALENDAR