BEGIN:VCALENDAR
VERSION:2.0
PRODID:-//Doppelpunkt//Events//DE
CALSCALE:GREGORIAN
METHOD:PUBLISH
BEGIN:VEVENT
UID:event-2840@www.doppelpunkt.de
DTSTAMP:20260421T083911
DTSTART:20260108T193000
DTEND:20260108T193000
SUMMARY:Tan Caglar: "Der Teufel trägt Rollstuhl"\, Comedy
LOCATION:Comödie Fürth\, Comödien-Platz 1\, 90762 Fürth
STATUS:CONFIRMED
END:VEVENT
END:VCALENDAR