BEGIN:VCALENDAR
VERSION:2.0
PRODID:-//Doppelpunkt//Events//DE
CALSCALE:GREGORIAN
METHOD:PUBLISH
BEGIN:VEVENT
UID:event-2839@www.doppelpunkt.de
DTSTAMP:20260421T111547
DTSTART:20251219T150000
DTEND:20251219T150000
SUMMARY:Nachmittagskino: Die Barbaren
LOCATION:Gemeinschaftshaus Langwasser\, Glogauer Str. 50\, 90473 Nürnberg
STATUS:CONFIRMED
END:VEVENT
END:VCALENDAR