BEGIN:VCALENDAR
VERSION:2.0
PRODID:-//Doppelpunkt//Events//DE
CALSCALE:GREGORIAN
METHOD:PUBLISH
BEGIN:VEVENT
UID:event-2838@www.doppelpunkt.de
DTSTAMP:20260421T064832
DTSTART:20260107T193000
DTEND:20260107T193000
SUMMARY:Ingo Appelt: "Männer nerven stark"\, Comedy
LOCATION:Comödie Fürth\, Comödien-Platz 1\, 90762 Fürth
STATUS:CONFIRMED
END:VEVENT
END:VCALENDAR