BEGIN:VCALENDAR
VERSION:2.0
PRODID:-//Doppelpunkt//Events//DE
CALSCALE:GREGORIAN
METHOD:PUBLISH
BEGIN:VEVENT
UID:event-2831@www.doppelpunkt.de
DTSTAMP:20260425T123739
DTSTART:20251214T190000
DTEND:20251214T190000
SUMMARY:Klaus Karl-Kraus: "Budderblädzli\, Bunsch und Bäggli"\, fränk. Kabarett
LOCATION:Comödie Fürth\, Comödien-Platz 1\, 90762 Fürth
STATUS:CONFIRMED
END:VEVENT
END:VCALENDAR