BEGIN:VCALENDAR
VERSION:2.0
PRODID:-//Doppelpunkt//Events//DE
CALSCALE:GREGORIAN
METHOD:PUBLISH
BEGIN:VEVENT
UID:event-2829@www.doppelpunkt.de
DTSTAMP:20260425T122817
DTSTART:20251209T193000
DTEND:20251209T193000
SUMMARY:Bernard Ottinger & Martin Rassau: "Kerle auf Kur - Lou mer mei Rouh"\, Comedy
LOCATION:Comödie Fürth\, Comödien-Platz 1\, 90762 Fürth
STATUS:CONFIRMED
END:VEVENT
END:VCALENDAR