BEGIN:VCALENDAR
VERSION:2.0
PRODID:-//Doppelpunkt//Events//DE
CALSCALE:GREGORIAN
METHOD:PUBLISH
BEGIN:VEVENT
UID:event-2826@www.doppelpunkt.de
DTSTAMP:20260425T135612
DTSTART:20260117T150000
DTEND:20260117T150000
SUMMARY:"Der Regenbogenfisch"\, ab 3 J.
LOCATION:Theater Salz+Pfeffer\, Frauentorgraben 73\, 90443 Nürnberg
STATUS:CONFIRMED
END:VEVENT
END:VCALENDAR