BEGIN:VCALENDAR
VERSION:2.0
PRODID:-//Doppelpunkt//Events//DE
CALSCALE:GREGORIAN
METHOD:PUBLISH
BEGIN:VEVENT
UID:event-2825@www.doppelpunkt.de
DTSTAMP:20260425T122931
DTSTART:20251214T150000
DTEND:20251214T150000
SUMMARY:"Ganz schön schlau!"\, ab 6 J.
LOCATION:Theater Salz+Pfeffer\, Frauentorgraben 73\, 90443 Nürnberg
STATUS:CONFIRMED
END:VEVENT
END:VCALENDAR