BEGIN:VCALENDAR
VERSION:2.0
PRODID:-//Doppelpunkt//Events//DE
CALSCALE:GREGORIAN
METHOD:PUBLISH
BEGIN:VEVENT
UID:event-2823@www.doppelpunkt.de
DTSTAMP:20260425T135609
DTSTART:20260128T143000
DTEND:20260128T143000
SUMMARY:"Freddie und die ganze Katastrophe"\, ab 6 J.
LOCATION:Theater Mummpitz\, Michael-Ende-Str. 17\, 90439 Nürnberg
STATUS:CONFIRMED
END:VEVENT
END:VCALENDAR