BEGIN:VCALENDAR
VERSION:2.0
PRODID:-//Doppelpunkt//Events//DE
CALSCALE:GREGORIAN
METHOD:PUBLISH
BEGIN:VEVENT
UID:event-2814@www.doppelpunkt.de
DTSTAMP:20260419T164050
DTSTART:20251206T160000
DTEND:20251206T160000
SUMMARY:"Ein Schaf fürs Leben"\, ab 6 J.
LOCATION:Theater Pfütze\, Äußerer Laufer Platz 22\, 90403 Nürnberg
STATUS:CONFIRMED
END:VEVENT
END:VCALENDAR