BEGIN:VCALENDAR
VERSION:2.0
PRODID:-//Doppelpunkt//Events//DE
CALSCALE:GREGORIAN
METHOD:PUBLISH
BEGIN:VEVENT
UID:event-2813@www.doppelpunkt.de
DTSTAMP:20260425T122825
DTSTART:20260110T190000
DTEND:20260110T190000
SUMMARY:"Niemand heißt Elise"\, ab 9 J.
LOCATION:Theater Pfütze\, Äußerer Laufer Platz 22\, 90403 Nürnberg
STATUS:CONFIRMED
END:VEVENT
END:VCALENDAR