BEGIN:VCALENDAR
VERSION:2.0
PRODID:-//Doppelpunkt//Events//DE
CALSCALE:GREGORIAN
METHOD:PUBLISH
BEGIN:VEVENT
UID:event-2811@www.doppelpunkt.de
DTSTAMP:20260425T125027
DTSTART:20251219T200000
DTEND:20251220T235900
SUMMARY:Foyer: Andrea Hintermaier: "Experiment Tinder"\, interaktives Theater
LOCATION:Tafelhalle\, Äußere Sulzbacher Str. 62\, 90491 Nürnberg
STATUS:CONFIRMED
END:VEVENT
END:VCALENDAR