BEGIN:VCALENDAR
VERSION:2.0
PRODID:-//Doppelpunkt//Events//DE
CALSCALE:GREGORIAN
METHOD:PUBLISH
BEGIN:VEVENT
UID:event-2810@www.doppelpunkt.de
DTSTAMP:20260419T184109
DTSTART:20251212T200000
DTEND:20260106T235900
SUMMARY:Curtis & Co. - dance affairs/EveryBody: "Nutcracker.Now"\, Tanztheater ab 8 J.
LOCATION:Tafelhalle\, Äußere Sulzbacher Str. 62\, 90491 Nürnberg
STATUS:CONFIRMED
END:VEVENT
END:VCALENDAR