BEGIN:VCALENDAR
VERSION:2.0
PRODID:-//Doppelpunkt//Events//DE
CALSCALE:GREGORIAN
METHOD:PUBLISH
BEGIN:VEVENT
UID:event-2807@www.doppelpunkt.de
DTSTAMP:20260421T111458
DTSTART:20260218T200000
DTEND:20260218T200000
SUMMARY:Foyer: Reihe Nordwärts: Désirée Saarela (Folk)
LOCATION:Tafelhalle\, Äußere Sulzbacher Str. 62\, 90491 Nürnberg
STATUS:CONFIRMED
END:VEVENT
END:VCALENDAR