BEGIN:VCALENDAR
VERSION:2.0
PRODID:-//Doppelpunkt//Events//DE
CALSCALE:GREGORIAN
METHOD:PUBLISH
BEGIN:VEVENT
UID:event-2806@www.doppelpunkt.de
DTSTAMP:20260425T122826
DTSTART:20260201T170000
DTEND:20260201T170000
SUMMARY:ensemble Kontraste: "Die Stadt ohne Juden"\, Stummfilm mit Livemusik
LOCATION:Tafelhalle\, Äußere Sulzbacher Str. 62\, 90491 Nürnberg
STATUS:CONFIRMED
END:VEVENT
END:VCALENDAR