BEGIN:VCALENDAR
VERSION:2.0
PRODID:-//Doppelpunkt//Events//DE
CALSCALE:GREGORIAN
METHOD:PUBLISH
BEGIN:VEVENT
UID:event-2805@www.doppelpunkt.de
DTSTAMP:20260425T135437
DTSTART:20260111T180000
DTEND:20260111T180000
SUMMARY:Rebecca Trescher Tentett (Jazz)
LOCATION:Tafelhalle\, Äußere Sulzbacher Str. 62\, 90491 Nürnberg
STATUS:CONFIRMED
END:VEVENT
END:VCALENDAR