BEGIN:VCALENDAR
VERSION:2.0
PRODID:-//Doppelpunkt//Events//DE
CALSCALE:GREGORIAN
METHOD:PUBLISH
BEGIN:VEVENT
UID:event-2804@www.doppelpunkt.de
DTSTAMP:20260420T202250
DTSTART:20260101T170000
DTEND:20260101T170000
SUMMARY:ensemble Kontraste (Klassik/zeitgen. Musik)
LOCATION:Tafelhalle\, Äußere Sulzbacher Str. 62\, 90491 Nürnberg
STATUS:CONFIRMED
END:VEVENT
END:VCALENDAR