BEGIN:VCALENDAR
VERSION:2.0
PRODID:-//Doppelpunkt//Events//DE
CALSCALE:GREGORIAN
METHOD:PUBLISH
BEGIN:VEVENT
UID:event-2802@www.doppelpunkt.de
DTSTAMP:20260421T170056
DTSTART:20251221T150000
DTEND:20251221T150000
SUMMARY:Metropolmusik: "Engelesingen"\, respektlos-andächtige Weihnachtslieder u. Krippenspiel (auch um 18 Uhr)
LOCATION:Tafelhalle\, Äußere Sulzbacher Str. 62\, 90491 Nürnberg
STATUS:CONFIRMED
END:VEVENT
END:VCALENDAR