BEGIN:VCALENDAR
VERSION:2.0
PRODID:-//Doppelpunkt//Events//DE
CALSCALE:GREGORIAN
METHOD:PUBLISH
BEGIN:VEVENT
UID:event-2800@www.doppelpunkt.de
DTSTAMP:20260421T111648
DTSTART:20251203T193000
DTEND:20251203T193000
SUMMARY:"Finest Fusion"\, Jazz-Konzert u. Jam-Session
LOCATION:Tafelhalle\, Äußere Sulzbacher Str. 62\, 90491 Nürnberg
STATUS:CONFIRMED
END:VEVENT
END:VCALENDAR