BEGIN:VCALENDAR
VERSION:2.0
PRODID:-//Doppelpunkt//Events//DE
CALSCALE:GREGORIAN
METHOD:PUBLISH
BEGIN:VEVENT
UID:event-2796@www.doppelpunkt.de
DTSTAMP:20260425T135445
DTSTART:20260129T190000
DTEND:20260129T190000
SUMMARY:Spiral Drive (Neo-Psychedelic)
LOCATION:MUZclub\, Fürther Str. 63\, 90429 Nürnberg
STATUS:CONFIRMED
END:VEVENT
END:VCALENDAR