BEGIN:VCALENDAR
VERSION:2.0
PRODID:-//Doppelpunkt//Events//DE
CALSCALE:GREGORIAN
METHOD:PUBLISH
BEGIN:VEVENT
UID:event-2791@www.doppelpunkt.de
DTSTAMP:20260421T145928
DTSTART:20260228T200000
DTEND:20260228T200000
SUMMARY:Insert Coin: Live In Concert
DESCRIPTION:Alte Bekannte sind am Samstag\, den 28. Ferbruar um 20 Uhr zu Gast im JTF Forchheim: die Forchheimer HardRock-Formation Insert Coin.\nDas Quintett ist die dienstälteste Rockband Forchheims und eine der dienstältesten in Bayern. Es stellt sich die Frage\, warum sich diese Band so lange behaupten konnte. Die Antwort ist einfach: Es handelt sich um eine Band mit erfahrenen Musikern\, die Spaß an ihrer Musik haben und eine echte Live-Band sind. Wenn die Altmeister loslegen\, bebt die Bude. \nDave Scholler...
LOCATION:Junges Theater Forchheim\, Kasernstr. 9\, 91301 Forchheim
STATUS:CONFIRMED
END:VEVENT
END:VCALENDAR