BEGIN:VCALENDAR
VERSION:2.0
PRODID:-//Doppelpunkt//Events//DE
CALSCALE:GREGORIAN
METHOD:PUBLISH
BEGIN:VEVENT
UID:event-2789@www.doppelpunkt.de
DTSTAMP:20260421T111722
DTSTART:20260220T200000
DTEND:20260220T200000
SUMMARY:Busch: "Busch kommt"\, Musik-Comedy
LOCATION:Junges Theater Forchheim\, Kasernstr. 9\, 91301 Forchheim
STATUS:CONFIRMED
END:VEVENT
END:VCALENDAR