BEGIN:VCALENDAR
VERSION:2.0
PRODID:-//Doppelpunkt//Events//DE
CALSCALE:GREGORIAN
METHOD:PUBLISH
BEGIN:VEVENT
UID:event-2784@www.doppelpunkt.de
DTSTAMP:20260421T111458
DTSTART:20260201T170000
DTEND:20260201T170000
SUMMARY:"Vibraphonissimo": Filippa Gojo feat. Radek Szarek u. Olesch:Konertz Duo
LOCATION:Junges Theater Forchheim\, Kasernstr. 9\, 91301 Forchheim
STATUS:CONFIRMED
END:VEVENT
END:VCALENDAR