BEGIN:VCALENDAR
VERSION:2.0
PRODID:-//Doppelpunkt//Events//DE
CALSCALE:GREGORIAN
METHOD:PUBLISH
BEGIN:VEVENT
UID:event-2780@www.doppelpunkt.de
DTSTAMP:20260421T121243
DTSTART:20260110T200000
DTEND:20260110T200000
SUMMARY:LauschRausch & special Guests (Pop/Funk/HipHop)
LOCATION:Junges Theater Forchheim\, Kasernstr. 9\, 91301 Forchheim
STATUS:CONFIRMED
END:VEVENT
END:VCALENDAR