BEGIN:VCALENDAR
VERSION:2.0
PRODID:-//Doppelpunkt//Events//DE
CALSCALE:GREGORIAN
METHOD:PUBLISH
BEGIN:VEVENT
UID:event-2779@www.doppelpunkt.de
DTSTAMP:20260421T105424
DTSTART:20260109T200000
DTEND:20260109T200000
SUMMARY:Daniel Helfrich: "Trennkost ist kein Abschiedsessen"\, Comedy
LOCATION:Junges Theater Forchheim\, Kasernstr. 9\, 91301 Forchheim
STATUS:CONFIRMED
END:VEVENT
END:VCALENDAR