BEGIN:VCALENDAR
VERSION:2.0
PRODID:-//Doppelpunkt//Events//DE
CALSCALE:GREGORIAN
METHOD:PUBLISH
BEGIN:VEVENT
UID:event-2773@www.doppelpunkt.de
DTSTAMP:20260421T105725
DTSTART:20251231T220000
DTEND:20251231T220000
SUMMARY:"Silvester auf dem Dach" Rooftop-Party mit dem Club-Stereo-Team
LOCATION:Adina Apartment Hotel\, Dr.-Kurst-Schumacher-Str. 1\, 90402 Nürnberg
STATUS:CONFIRMED
END:VEVENT
END:VCALENDAR