BEGIN:VCALENDAR
VERSION:2.0
PRODID:-//Doppelpunkt//Events//DE
CALSCALE:GREGORIAN
METHOD:PUBLISH
BEGIN:VEVENT
UID:event-2772@www.doppelpunkt.de
DTSTAMP:20260421T111722
DTSTART:20251231T230000
DTEND:20251231T230000
SUMMARY:"Grand Stereo Clash"\, Indie-Silvester-Party
LOCATION:Club Stereo\, Klaragasse 8\, 90402 Nürnberg
STATUS:CONFIRMED
END:VEVENT
END:VCALENDAR