BEGIN:VCALENDAR
VERSION:2.0
PRODID:-//Doppelpunkt//Events//DE
CALSCALE:GREGORIAN
METHOD:PUBLISH
BEGIN:VEVENT
UID:event-2765@www.doppelpunkt.de
DTSTAMP:20260425T141946
DTSTART:20260130T180000
DTEND:20260130T180000
SUMMARY:"Bierbosse": Bierverkostung und Geschichten mit Ole Bosse
LOCATION:Dehnberger Hof Theater\, Dehnberg 14\, 91207 Lauf
STATUS:CONFIRMED
END:VEVENT
END:VCALENDAR