BEGIN:VCALENDAR
VERSION:2.0
PRODID:-//Doppelpunkt//Events//DE
CALSCALE:GREGORIAN
METHOD:PUBLISH
BEGIN:VEVENT
UID:event-2764@www.doppelpunkt.de
DTSTAMP:20260425T135457
DTSTART:20260111T110000
DTEND:20260111T110000
SUMMARY:Neujahrskonzert mit Norbert Nagel & Friends
LOCATION:Dehnberger Hof Theater\, Dehnberg 14\, 91207 Lauf
STATUS:CONFIRMED
END:VEVENT
END:VCALENDAR