BEGIN:VCALENDAR
VERSION:2.0
PRODID:-//Doppelpunkt//Events//DE
CALSCALE:GREGORIAN
METHOD:PUBLISH
BEGIN:VEVENT
UID:event-2760@www.doppelpunkt.de
DTSTAMP:20260425T123026
DTSTART:20251219T193000
DTEND:20251219T193000
SUMMARY:Django Asül "Rückspiegel"\, Satirischer Jahresrückblick
LOCATION:Dehnberger Hof Theater\, Dehnberg 14\, 91207 Lauf
STATUS:CONFIRMED
END:VEVENT
END:VCALENDAR