BEGIN:VCALENDAR
VERSION:2.0
PRODID:-//Doppelpunkt//Events//DE
CALSCALE:GREGORIAN
METHOD:PUBLISH
BEGIN:VEVENT
UID:event-2758@www.doppelpunkt.de
DTSTAMP:20260419T170258
DTSTART:20251212T193000
DTEND:20251212T193000
SUMMARY:Ricardo Volkert & Ensemble (Andalusische Weihnachtslieder)
LOCATION:Dehnberger Hof Theater\, Dehnberg 14\, 91207 Lauf
STATUS:CONFIRMED
END:VEVENT
END:VCALENDAR