BEGIN:VCALENDAR
VERSION:2.0
PRODID:-//Doppelpunkt//Events//DE
CALSCALE:GREGORIAN
METHOD:PUBLISH
BEGIN:VEVENT
UID:event-2753@www.doppelpunkt.de
DTSTAMP:20260425T142336
DTSTART:20260120T200000
DTEND:20260120T200000
SUMMARY:Lesung und Gespräch mit Gregor Gysi: "Auf ein Wort"
LOCATION:Meistersingerhalle\, Münchener Str. 21\, 90478 Nürnberg
STATUS:CONFIRMED
END:VEVENT
END:VCALENDAR