BEGIN:VCALENDAR
VERSION:2.0
PRODID:-//Doppelpunkt//Events//DE
CALSCALE:GREGORIAN
METHOD:PUBLISH
BEGIN:VEVENT
UID:event-2750@www.doppelpunkt.de
DTSTAMP:20260425T123026
DTSTART:20251211T190000
DTEND:20251211T190000
SUMMARY:Cutty Shells: "Mother's Ship"\, Performance/Collage von Katharina Simons
LOCATION:Kulturforum Fürth\, Würzburger Straße 2\, 90762 Fürth
STATUS:CONFIRMED
END:VEVENT
END:VCALENDAR