BEGIN:VCALENDAR
VERSION:2.0
PRODID:-//Doppelpunkt//Events//DE
CALSCALE:GREGORIAN
METHOD:PUBLISH
BEGIN:VEVENT
UID:event-2741@www.doppelpunkt.de
DTSTAMP:20260425T135636
DTSTART:20260131T194500
DTEND:20260131T194500
SUMMARY:Rodeo 5000 (Country/Bluegrass)
LOCATION:Club Stereo\, Klaragasse 8\, 90402 Nürnberg
STATUS:CONFIRMED
END:VEVENT
END:VCALENDAR