BEGIN:VCALENDAR
VERSION:2.0
PRODID:-//Doppelpunkt//Events//DE
CALSCALE:GREGORIAN
METHOD:PUBLISH
BEGIN:VEVENT
UID:event-2740@www.doppelpunkt.de
DTSTAMP:20260425T142335
DTSTART:20260130T194500
DTEND:20260130T194500
SUMMARY:Bush.ida (Rap)
LOCATION:Club Stereo\, Klaragasse 8\, 90402 Nürnberg
STATUS:CONFIRMED
END:VEVENT
END:VCALENDAR