BEGIN:VCALENDAR
VERSION:2.0
PRODID:-//Doppelpunkt//Events//DE
CALSCALE:GREGORIAN
METHOD:PUBLISH
BEGIN:VEVENT
UID:event-2739@www.doppelpunkt.de
DTSTAMP:20260425T160626
DTSTART:20260123T194500
DTEND:20260123T194500
SUMMARY:Mellow Mark (Reggea/HipHop)
LOCATION:Club Stereo\, Klaragasse 8\, 90402 Nürnberg
STATUS:CONFIRMED
END:VEVENT
END:VCALENDAR