BEGIN:VCALENDAR
VERSION:2.0
PRODID:-//Doppelpunkt//Events//DE
CALSCALE:GREGORIAN
METHOD:PUBLISH
BEGIN:VEVENT
UID:event-2738@www.doppelpunkt.de
DTSTAMP:20260425T141202
DTSTART:20260121T194500
DTEND:20260121T194500
SUMMARY:Das Paradies (Pop)
LOCATION:Club Stereo\, Klaragasse 8\, 90402 Nürnberg
STATUS:CONFIRMED
END:VEVENT
END:VCALENDAR