BEGIN:VCALENDAR
VERSION:2.0
PRODID:-//Doppelpunkt//Events//DE
CALSCALE:GREGORIAN
METHOD:PUBLISH
BEGIN:VEVENT
UID:event-2734@www.doppelpunkt.de
DTSTAMP:20260423T150223
DTSTART:20251213T194500
DTEND:20251213T194500
SUMMARY:La-Boum (Weltmusik/Ska/Rockabilly)
LOCATION:Club Stereo\, Klaragasse 8\, 90402 Nürnberg
STATUS:CONFIRMED
END:VEVENT
END:VCALENDAR