BEGIN:VCALENDAR
VERSION:2.0
PRODID:-//Doppelpunkt//Events//DE
CALSCALE:GREGORIAN
METHOD:PUBLISH
BEGIN:VEVENT
UID:event-2730@www.doppelpunkt.de
DTSTAMP:20260419T150309
DTSTART:20251204T194500
DTEND:20251204T194500
SUMMARY:Your Careless Spark\, Support: Kaulbærk
LOCATION:Club Stereo\, Klaragasse 8\, 90402 Nürnberg
STATUS:CONFIRMED
END:VEVENT
END:VCALENDAR