BEGIN:VCALENDAR
VERSION:2.0
PRODID:-//Doppelpunkt//Events//DE
CALSCALE:GREGORIAN
METHOD:PUBLISH
BEGIN:VEVENT
UID:event-2726@www.doppelpunkt.de
DTSTAMP:20260421T111721
DTSTART:20260206T200000
DTEND:20260206T200000
SUMMARY:Ehrlich Brothers: "Diamonds"\, Illusions-Show
LOCATION:PSD Bank Nürnberg Arena\, Kurt-Leucht-Weg 11\, 90471 Nürnberg
STATUS:CONFIRMED
END:VEVENT
END:VCALENDAR