BEGIN:VCALENDAR
VERSION:2.0
PRODID:-//Doppelpunkt//Events//DE
CALSCALE:GREGORIAN
METHOD:PUBLISH
BEGIN:VEVENT
UID:event-2723@www.doppelpunkt.de
DTSTAMP:20260419T184103
DTSTART:20251213T200000
DTEND:20251213T200000
SUMMARY:Henning Schmidtke: "Es ist nicht alles so scheiße\, wie du denkst!"\, Comedy/Infotainment
LOCATION:Casa de la Trova\, Zum Sportheim 13\, 90530 Wendelstein
STATUS:CONFIRMED
END:VEVENT
END:VCALENDAR