BEGIN:VCALENDAR
VERSION:2.0
PRODID:-//Doppelpunkt//Events//DE
CALSCALE:GREGORIAN
METHOD:PUBLISH
BEGIN:VEVENT
UID:event-2718@www.doppelpunkt.de
DTSTAMP:20260425T135935
DTSTART:20260125T180000
DTEND:20260125T180000
SUMMARY:Klaus Hübner: "Prahlhans Eitelkeiten und die Nulpen"\, Kabarett
LOCATION:Theater Rote Bühne\, Vordere Cramergasse 11\, 90478 Nürnberg
STATUS:CONFIRMED
END:VEVENT
END:VCALENDAR