BEGIN:VCALENDAR
VERSION:2.0
PRODID:-//Doppelpunkt//Events//DE
CALSCALE:GREGORIAN
METHOD:PUBLISH
BEGIN:VEVENT
UID:event-2716@www.doppelpunkt.de
DTSTAMP:20260425T160918
DTSTART:20260123T200000
DTEND:20260123T200000
SUMMARY:Daniela Dillinger: "Unverschämt weiblich"\, Solostück
LOCATION:Theater Rote Bühne\, Vordere Cramergasse 11\, 90478 Nürnberg
STATUS:CONFIRMED
END:VEVENT
END:VCALENDAR