BEGIN:VCALENDAR
VERSION:2.0
PRODID:-//Doppelpunkt//Events//DE
CALSCALE:GREGORIAN
METHOD:PUBLISH
BEGIN:VEVENT
UID:event-2713@www.doppelpunkt.de
DTSTAMP:20260421T050911
DTSTART:20260106T180000
DTEND:20260106T180000
SUMMARY:Okan Seese: "Tomaten auf den Ohren"\, Stand-Up Comedy
LOCATION:Theater Rote Bühne\, Vordere Cramergasse 11\, 90478 Nürnberg
STATUS:CONFIRMED
END:VEVENT
END:VCALENDAR