BEGIN:VCALENDAR
VERSION:2.0
PRODID:-//Doppelpunkt//Events//DE
CALSCALE:GREGORIAN
METHOD:PUBLISH
BEGIN:VEVENT
UID:event-2712@www.doppelpunkt.de
DTSTAMP:20260421T032148
DTSTART:20260105T200000
DTEND:20260105T200000
SUMMARY:Stefan Rieger: "Das Leben ist eine Rutschbahn"\, Texte u. Lieder von Brecht
LOCATION:Theater Rote Bühne\, Vordere Cramergasse 11\, 90478 Nürnberg
STATUS:CONFIRMED
END:VEVENT
END:VCALENDAR