BEGIN:VCALENDAR
VERSION:2.0
PRODID:-//Doppelpunkt//Events//DE
CALSCALE:GREGORIAN
METHOD:PUBLISH
BEGIN:VEVENT
UID:event-2711@www.doppelpunkt.de
DTSTAMP:20260421T014902
DTSTART:20260104T180000
DTEND:20260104T180000
SUMMARY:Marcelini & Thomas Meyer: "Goldene Varietäten"\, 20er Jahre Revue
LOCATION:Theater Rote Bühne\, Vordere Cramergasse 11\, 90478 Nürnberg
STATUS:CONFIRMED
END:VEVENT
END:VCALENDAR