BEGIN:VCALENDAR
VERSION:2.0
PRODID:-//Doppelpunkt//Events//DE
CALSCALE:GREGORIAN
METHOD:PUBLISH
BEGIN:VEVENT
UID:event-2709@www.doppelpunkt.de
DTSTAMP:20260425T122907
DTSTART:20251230T190000
DTEND:20251230T190000
SUMMARY:MaerenKabinett feat. Fred Munker: "Vom Zauber der Rauhnächte"\, Musikalische Lesung
LOCATION:Theater Rote Bühne\, Vordere Cramergasse 11\, 90478 Nürnberg
STATUS:CONFIRMED
END:VEVENT
END:VCALENDAR