BEGIN:VCALENDAR
VERSION:2.0
PRODID:-//Doppelpunkt//Events//DE
CALSCALE:GREGORIAN
METHOD:PUBLISH
BEGIN:VEVENT
UID:event-2707@www.doppelpunkt.de
DTSTAMP:20260421T111648
DTSTART:20251218T183000
DTEND:20251218T183000
SUMMARY:Vernissage: "Beton & Begegnung - Wo Stadt auf Mensch trifft"
LOCATION:Künstlerhaus Glasbau\, Königstr. 93\, 90402 Nürnberg
STATUS:CONFIRMED
END:VEVENT
END:VCALENDAR