BEGIN:VCALENDAR
VERSION:2.0
PRODID:-//Doppelpunkt//Events//DE
CALSCALE:GREGORIAN
METHOD:PUBLISH
BEGIN:VEVENT
UID:event-2706@www.doppelpunkt.de
DTSTAMP:20260425T142020
DTSTART:20260125T150000
DTEND:20260125T150000
SUMMARY:Finissage Ruth Orkin: "Through Her Lins"
LOCATION:Kunsthaus\, Königstr. 93\, 90402 Nürnberg
STATUS:CONFIRMED
END:VEVENT
END:VCALENDAR